

			


BEGIN:VCALENDAR
VERSION:2.0
PRODID:-//gpw/event/service//NONSGML v1.0//EN
METHOD:PUBLISH
CALSCALE:GREGORIAN
BEGIN:VEVENT
UID:news-118254@gpw.pl
DTSTAMP:20260421T104639
DTSTART:20260421T104639
SUMMARY:Dołącz do 7. edycji Warsaw Passive Investment Conference na
  GPW
URL;VALUE=URI:
END:VEVENT

END:VCALENDAR

